BEGIN:VCALENDAR
VERSION:2.0
PRODID:-//The Station Patagonia - ECPv6.15.20//NONSGML v1.0//EN
CALSCALE:GREGORIAN
METHOD:PUBLISH
X-WR-CALNAME:The Station Patagonia
X-ORIGINAL-URL:https://www.thestationpatagonia.com
X-WR-CALDESC:Eventos para The Station Patagonia
REFRESH-INTERVAL;VALUE=DURATION:PT1H
X-Robots-Tag:noindex
X-PUBLISHED-TTL:PT1H
BEGIN:VTIMEZONE
TZID:UTC
BEGIN:STANDARD
TZOFFSETFROM:+0000
TZOFFSETTO:+0000
TZNAME:UTC
DTSTART:20250101T000000
END:STANDARD
END:VTIMEZONE
BEGIN:VEVENT
DTSTART;TZID=UTC:20260225T190000
DTEND;TZID=UTC:20260225T203000
DTSTAMP:20260419T172447
CREATED:20260130T171359Z
LAST-MODIFIED:20260130T171830Z
UID:5079-1772046000-1772051400@www.thestationpatagonia.com
SUMMARY:Verano de bailes cubanos\, ¡con ritmo y alegría!
DESCRIPTION:Siguen las clases de bailes cubanos en Estación Araucanía a puro son\, sabor y sabrosura. Con Joaquín Collazo como profe\, vas a moverte al compás del Caribe: ya seas principiante o tengas algo de cancha\, ¡esta pista es para vos! \n📆 Todos los miércoles de febrero\n 19:00 a 20:30 horas (principiantes)\n 20:30 a 22:00 (avanzados) \nClase suelta: $8.000\nAbono mensual: $30.000 \n¡Hay descuentos combinando con otras clases! \nFacilitar: @collazojoaquin.brc \nReservá tu lugar al +54 9 294 420 8880 \nVení a bailar\, ¡el Caribe te espera en Bariloche!
URL:https://www.thestationpatagonia.com/agenda/bailes-cubanos-verano-febrero-3-copy/
LOCATION:The Station\, Av Bustillo 11500\, Bariloche\, Río Negro\, 8400\, Argentina
ATTACH;FMTTYPE=image/jpeg:https://www.thestationpatagonia.com/wp-content/uploads/2026/01/BAILES-CUBANOS_FEED-4.jpg
END:VEVENT
END:VCALENDAR